BEGIN:VCALENDAR
VERSION:2.0
PRODID:-//Squarespace Inc/Squarespace 6//v6//EN
BEGIN:VEVENT
UID:599a3bfa914e6bf5dab879ef@squarespace.com
DTSTAMP:20170822T221412Z
DTSTART:20171011T133000Z
DTEND:20171011T193000Z
SUMMARY:The Mystery and Magic of Sandpaper
END:VEVENT
END:VCALENDAR
