BEGIN:VCALENDAR
VERSION:2.0
PRODID:-//Squarespace Inc/Squarespace 6//v6//EN
BEGIN:VEVENT
UID:5930eb1c6a49631d9a137b66@squarespace.com
DTSTAMP:20170821T015210Z
DTSTART:20170717T050000Z
DTEND:20170801T060000Z
SUMMARY:There Are Currently No Upcoming Events
END:VEVENT
END:VCALENDAR
