BEGIN:VCALENDAR
VERSION:2.0
PRODID:-//Squarespace Inc/Squarespace 6//v6//EN
BEGIN:VEVENT
UID:5930e9b9ebbd1a6dc1b66842@squarespace.com
DTSTAMP:20170623T021530Z
DTSTART:20170710T200000Z
DTEND:20170710T220000Z
SUMMARY: Menzshed Nelson Launch
GEO:-41.265759;173.266764
LOCATION:Menzshed Nelson\, 322 Wakefield Quay\, Stepneyville\, 7010\, New Z
 ealand
END:VEVENT
END:VCALENDAR
